BEGIN:VCALENDAR
VERSION:2.0
PRODID:-//Plone.org//NONSGML plone.app.event//EN
X-WR-TIMEZONE:US/Central
BEGIN:VEVENT
SUMMARY:Storytime
DTSTART;TZID=US/Central:20260422T103000
DTEND;TZID=US/Central:20260422T113000
DTSTAMP:20260420T112204Z
UID:8578acf0679c44128539c53ece8b0ddd@saas_stack_varnish:6080
RRULE:FREQ=WEEKLY;UNTIL=20260430T000000;BYDAY=WE
CONTACT:Maria Montejano\, 254-697-2401\, MMontejano@camerontexas.net
CREATED:20221207T212644Z
DESCRIPTION:Join Ms. Maria every Wednesday morning for Storytime and Craft
 s. Check out our Facebook page Cameron Public Library Children's Program f
 or up to date information on this program.
LAST-MODIFIED:20250430T212537Z
LOCATION:Cameron Public Library
URL:https://cameron.ploud.net/news-events/storytime
END:VEVENT
BEGIN:VEVENT
SUMMARY:Friends of the Cameron Library Meeting
DTSTART;TZID=US/Central:20260511T173000
DTEND;TZID=US/Central:20260511T183000
DTSTAMP:20260420T112204Z
UID:b9c3aec366424c378a1abbd4c07f48ac@saas_stack_varnish:6080
CONTACT:Friends of the Cameron Public Library\, 254-697-2401\, friendsofcp
 l76520@gmail.com\, https://www.facebook.com/profile.php?id=61582218484824
CREATED:20221208T173740Z
DESCRIPTION:Friends of the Library meet quarterly.
LAST-MODIFIED:20260324T175519Z
URL:https://cameron.ploud.net/news-events/monthly-meeting-friends-of-the-c
 ameron-library
END:VEVENT
BEGIN:VEVENT
SUMMARY:2026 Summer Reading Program
DTSTART;VALUE=DATE:20260608
DTEND;VALUE=DATE:20260630
DTSTAMP:20260420T112204Z
UID:8760fa9d0c88458a8b6bcd181e624736@saas_stack_varnish:6080
CONTACT:Maria Montejano\, 254-697-2401\, MMontejano@camerontexas.net\, htt
 ps://www.facebook.com/Cameron-Public-Library-Childrens-Program-15971465372
 37051/
CREATED:20200604T214702Z
DESCRIPTION:COMING SOON! Unearth A Story
LAST-MODIFIED:20260324T180601Z
LOCATION:Cameron Public Library
URL:https://cameron.ploud.net/2020-summer-reading-program
END:VEVENT
BEGIN:VTIMEZONE
TZID:US/Central
X-LIC-LOCATION:US/Central
BEGIN:DAYLIGHT
DTSTART:20260308T030000
TZNAME:CDT
TZOFFSETFROM:-0600
TZOFFSETTO:-0500
END:DAYLIGHT
END:VTIMEZONE
END:VCALENDAR
