BEGIN:VCALENDAR
VERSION:2.0
PRODID:-//Plone.org//NONSGML plone.app.event//EN
X-WR-TIMEZONE:US/Central
BEGIN:VEVENT
SUMMARY:Friends Christmas Open House
DTSTART;TZID=US/Central:20221212T150000
DTEND;TZID=US/Central:20221212T170000
DTSTAMP:20260422T202739Z
UID:f87735a8905b41e9ad229c5a4f2b9d14@saas_stack_varnish:6080
CONTACT:Friends of the Library\, 254-697-2401\, 76520librarian@gmail.com
CREATED:20221208T173418Z
DESCRIPTION:Come mingle and jingle with the Friends of the Library officer
 s and find out how you can join and make a difference for the library.
LAST-MODIFIED:20221208T173430Z
LOCATION:Cameron Public Library
URL:https://cameron.ploud.net/friends-christmas-open-house
END:VEVENT
BEGIN:VTIMEZONE
TZID:US/Central
X-LIC-LOCATION:US/Central
BEGIN:STANDARD
DTSTART:20221106T010000
TZNAME:CST
TZOFFSETFROM:-0500
TZOFFSETTO:-0600
END:STANDARD
END:VTIMEZONE
END:VCALENDAR
