BEGIN:VCALENDAR
VERSION:2.0
PRODID:-//Plone.org//NONSGML plone.app.event//EN
X-WR-TIMEZONE:US/Central
BEGIN:VEVENT
SUMMARY:Hooks and Needles
DTSTART;TZID=US/Central:20250501T110000
DTEND;TZID=US/Central:20250501T120000
DTSTAMP:20260422T234327Z
UID:3c2524b9ce3d4885b01c648c0d18fe06@saas_stack_varnish:6080
RRULE:FREQ=DAILY;UNTIL=20250522T000000;INTERVAL=7
CONTACT:Heather Zana\, 254-697-2401\, HZana@camerontexas.net
CREATED:20221207T211952Z
DESCRIPTION:The Hooks and Needles program is for all types of needle craft
 ers to gather\, create and socialize. We will help you learn how to read p
 atterns and work on basic crochet\, knitting\, embroidery\, or other needl
 ecraft projects. Come  hang out\, share your project ideas and knowledge\,
  or learn a new craft.
LAST-MODIFIED:20250430T215150Z
LOCATION:Cameron Public Library
URL:https://cameron.ploud.net/news-events/hooks-and-needles
END:VEVENT
BEGIN:VTIMEZONE
TZID:US/Central
X-LIC-LOCATION:US/Central
BEGIN:DAYLIGHT
DTSTART:20250309T030000
TZNAME:CDT
TZOFFSETFROM:-0600
TZOFFSETTO:-0500
END:DAYLIGHT
END:VTIMEZONE
END:VCALENDAR
